BEGIN:VCALENDAR
VERSION:2.0
PRODID:icalendar-ruby
CALSCALE:GREGORIAN
METHOD:PUBLISH
BEGIN:VEVENT
DTSTAMP:20260421T170335Z
UID:6-299246@summervilleumc.com
DTSTART:20260726T144500Z
DTEND:20260727T034500Z
CLASS:PUBLIC
CREATED:20260421T101047
DESCRIPTION:
LAST-MODIFIED:20260421T101047
LOCATION:
SUMMARY:Adult Fellowship & Bible Study
URL;VALUE=URI:https://summervilleumc.com/events/adult-fellowship-bible-stud
 y/2026-07-26
END:VEVENT
END:VCALENDAR
