BEGIN:VCALENDAR
VERSION:2.0
PRODID:icalendar-ruby
CALSCALE:GREGORIAN
METHOD:PUBLISH
BEGIN:VEVENT
DTSTAMP:20260421T182311Z
UID:6-299397@summervilleumc.com
DTSTART:20260802T144500Z
DTEND:20260803T034500Z
CLASS:PUBLIC
CREATED:20260421T125100
DESCRIPTION:
LAST-MODIFIED:20260421T125100
LOCATION:
SUMMARY:Adult Fellowship & Bible Study
URL;VALUE=URI:https://summervilleumc.com/events/adult-fellowship-bible-stud
 y/2026-08-02
END:VEVENT
END:VCALENDAR
