BEGIN:VCALENDAR
VERSION:2.0
PRODID:icalendar-ruby
CALSCALE:GREGORIAN
METHOD:PUBLISH
BEGIN:VEVENT
DTSTAMP:20260421T205048Z
UID:6-299549@summervilleumc.com
DTSTART:20260816T144500Z
DTEND:20260817T034500Z
CLASS:PUBLIC
CREATED:20260421T152643
DESCRIPTION:
LAST-MODIFIED:20260421T152643
LOCATION:
SUMMARY:Adult Fellowship & Bible Study
URL;VALUE=URI:https://summervilleumc.com/events/adult-fellowship-bible-stud
 y/2026-08-16
END:VEVENT
END:VCALENDAR
