BEGIN:VCALENDAR
VERSION:2.0
PRODID:icalendar-ruby
CALSCALE:GREGORIAN
METHOD:PUBLISH
BEGIN:VEVENT
DTSTAMP:20260423T110347Z
UID:6-300751@summervilleumc.com
DTSTART:20260830T144500Z
DTEND:20260831T034500Z
CLASS:PUBLIC
CREATED:20260422T222404
DESCRIPTION:
LAST-MODIFIED:20260422T222404
LOCATION:
SUMMARY:Adult Fellowship & Bible Study
URL;VALUE=URI:https://summervilleumc.com/events/adult-fellowship-bible-stud
 y/2026-08-30
END:VEVENT
END:VCALENDAR
