BEGIN:VCALENDAR
VERSION:2.0
PRODID:icalendar-ruby
CALSCALE:GREGORIAN
METHOD:PUBLISH
BEGIN:VEVENT
DTSTAMP:20260423T134749Z
UID:6-300903@summervilleumc.com
DTSTART:20260913T144500Z
DTEND:20260914T034500Z
CLASS:PUBLIC
CREATED:20260423T075424
DESCRIPTION:
LAST-MODIFIED:20260423T075424
LOCATION:
SUMMARY:Adult Fellowship & Bible Study
URL;VALUE=URI:https://summervilleumc.com/events/adult-fellowship-bible-stud
 y/2026-09-13
END:VEVENT
END:VCALENDAR
