BEGIN:VCALENDAR
VERSION:2.0
PRODID:icalendar-ruby
CALSCALE:GREGORIAN
METHOD:PUBLISH
BEGIN:VEVENT
DTSTAMP:20260423T151140Z
UID:6-300904@summervilleumc.com
DTSTART:20260920T144500Z
DTEND:20260921T034500Z
CLASS:PUBLIC
CREATED:20260423T075424
DESCRIPTION:
LAST-MODIFIED:20260423T075424
LOCATION:
SUMMARY:Adult Fellowship & Bible Study
URL;VALUE=URI:https://summervilleumc.com/events/adult-fellowship-bible-stud
 y/2026-09-20
END:VEVENT
END:VCALENDAR
