BEGIN:VCALENDAR
VERSION:2.0
PRODID:icalendar-ruby
CALSCALE:GREGORIAN
METHOD:PUBLISH
BEGIN:VEVENT
DTSTAMP:20260423T163259Z
UID:6-301055@summervilleumc.com
DTSTART:20260927T144500Z
DTEND:20260928T034500Z
CLASS:PUBLIC
CREATED:20260423T104638
DESCRIPTION:
LAST-MODIFIED:20260423T104638
LOCATION:
SUMMARY:Adult Fellowship & Bible Study
URL;VALUE=URI:https://summervilleumc.com/events/adult-fellowship-bible-stud
 y/2026-09-27
END:VEVENT
END:VCALENDAR
