BEGIN:VCALENDAR
VERSION:2.0
PRODID:icalendar-ruby
CALSCALE:GREGORIAN
METHOD:PUBLISH
BEGIN:VEVENT
DTSTAMP:20260423T214832Z
UID:6-301359@summervilleumc.com
DTSTART:20261025T144500Z
DTEND:20261026T034500Z
CLASS:PUBLIC
CREATED:20260423T163813
DESCRIPTION:
LAST-MODIFIED:20260423T163813
LOCATION:
SUMMARY:Adult Fellowship & Bible Study
URL;VALUE=URI:https://summervilleumc.com/events/adult-fellowship-bible-stud
 y/2026-10-25
END:VEVENT
END:VCALENDAR
