BEGIN:VCALENDAR
VERSION:2.0
PRODID:icalendar-ruby
CALSCALE:GREGORIAN
METHOD:PUBLISH
BEGIN:VEVENT
DTSTAMP:20260423T230250Z
UID:6-301360@summervilleumc.com
DTSTART:20261101T154500Z
DTEND:20261102T044500Z
CLASS:PUBLIC
CREATED:20260423T163813
DESCRIPTION:
LAST-MODIFIED:20260423T163813
LOCATION:
SUMMARY:Adult Fellowship & Bible Study
URL;VALUE=URI:https://summervilleumc.com/events/adult-fellowship-bible-stud
 y/2026-11-01
END:VEVENT
END:VCALENDAR
