BEGIN:VCALENDAR
VERSION:2.0
PRODID:icalendar-ruby
CALSCALE:GREGORIAN
METHOD:PUBLISH
BEGIN:VEVENT
DTSTAMP:20260422T054421Z
UID:8-299954@summervilleumc.com
DTSTART:20260920T190000Z
DTEND:20260920T200000Z
CLASS:PUBLIC
CREATED:20260421T204341
DESCRIPTION:
LAST-MODIFIED:20260421T204341
LOCATION:
SUMMARY:Choir Practice
URL;VALUE=URI:https://summervilleumc.com/events/choir-practice/2026-09-20
END:VEVENT
END:VCALENDAR
