BEGIN:VCALENDAR
VERSION:2.0
PRODID:icalendar-ruby
CALSCALE:GREGORIAN
METHOD:PUBLISH
BEGIN:VEVENT
DTSTAMP:20260422T083849Z
UID:8-299956@summervilleumc.com
DTSTART:20261004T190000Z
DTEND:20261004T200000Z
CLASS:PUBLIC
CREATED:20260421T204341
DESCRIPTION:
LAST-MODIFIED:20260421T204341
LOCATION:
SUMMARY:Choir Practice
URL;VALUE=URI:https://summervilleumc.com/events/choir-practice/2026-10-04
END:VEVENT
END:VCALENDAR
