BEGIN:VCALENDAR
VERSION:2.0
PRODID:icalendar-ruby
CALSCALE:GREGORIAN
METHOD:PUBLISH
BEGIN:VEVENT
DTSTAMP:20260422T113355Z
UID:8-299958@summervilleumc.com
DTSTART:20261018T190000Z
DTEND:20261018T200000Z
CLASS:PUBLIC
CREATED:20260421T204341
DESCRIPTION:
LAST-MODIFIED:20260421T204341
LOCATION:
SUMMARY:Choir Practice
URL;VALUE=URI:https://summervilleumc.com/events/choir-practice/2026-10-18
END:VEVENT
END:VCALENDAR
