BEGIN:VCALENDAR
VERSION:2.0
PRODID:icalendar-ruby
CALSCALE:GREGORIAN
METHOD:PUBLISH
BEGIN:VEVENT
DTSTAMP:20260422T125644Z
UID:8-300109@summervilleumc.com
DTSTART:20261025T190000Z
DTEND:20261025T200000Z
CLASS:PUBLIC
CREATED:20260422T075252
DESCRIPTION:
LAST-MODIFIED:20260422T075252
LOCATION:
SUMMARY:Choir Practice
URL;VALUE=URI:https://summervilleumc.com/events/choir-practice/2026-10-25
END:VEVENT
END:VCALENDAR
