BEGIN:VCALENDAR
VERSION:2.0
PRODID:icalendar-ruby
CALSCALE:GREGORIAN
METHOD:PUBLISH
BEGIN:VEVENT
DTSTAMP:20260422T141145Z
UID:8-300110@summervilleumc.com
DTSTART:20261101T200000Z
DTEND:20261101T210000Z
CLASS:PUBLIC
CREATED:20260422T075252
DESCRIPTION:
LAST-MODIFIED:20260422T075252
LOCATION:
SUMMARY:Choir Practice
URL;VALUE=URI:https://summervilleumc.com/events/choir-practice/2026-11-01
END:VEVENT
END:VCALENDAR
